BEGIN:VCALENDAR
VERSION:2.0
PRODID:-//Brazos Valley Regional Advisory Council - ECPv6.15.18//NONSGML v1.0//EN
CALSCALE:GREGORIAN
METHOD:PUBLISH
X-ORIGINAL-URL:https://bvrac.com
X-WR-CALDESC:Events for Brazos Valley Regional Advisory Council
REFRESH-INTERVAL;VALUE=DURATION:PT1H
X-Robots-Tag:noindex
X-PUBLISHED-TTL:PT1H
BEGIN:VTIMEZONE
TZID:UTC
BEGIN:STANDARD
TZOFFSETFROM:+0000
TZOFFSETTO:+0000
TZNAME:UTC
DTSTART:20170101T000000
END:STANDARD
END:VTIMEZONE
BEGIN:VEVENT
DTSTART;TZID=UTC:20180911T110000
DTEND;TZID=UTC:20180911T113000
DTSTAMP:20260420T144623
CREATED:20180828T190149Z
LAST-MODIFIED:20180828T190149Z
UID:10000098-1536663600-1536665400@bvrac.com
SUMMARY:Zoll Rescue Pump Training September 11\, 2018
DESCRIPTION:Zoll will conduct Rescue Pump Training at Washington County EMS Station 1
URL:https://bvrac.com/event/zoll-rescue-pump-training/
LOCATION:Wasington County EMS Station 1\, 1875 Highway 290 W.\, Brenham\, TX\, 77833
END:VEVENT
BEGIN:VEVENT
DTSTART;TZID=UTC:20180802T090000
DTEND;TZID=UTC:20180802T160000
DTSTAMP:20260420T144623
CREATED:20180731T235104Z
LAST-MODIFIED:20180731T235104Z
UID:10000091-1533200400-1533225600@bvrac.com
SUMMARY:BVRAC General Assembly Meeting August 2\, 2018
DESCRIPTION:Meeting times:  \n1000 – 1130 Board of Directors Odd Months \n0900 – 1030 Board of Directors Even Months \n1030 – 1200 DEPC \n1200 – 1245 Perinatal \n1300 – 1600 General Assembly
URL:https://bvrac.com/event/bvrac-general-assembly-meeting/
END:VEVENT
BEGIN:VEVENT
DTSTART;TZID=UTC:20180516T080000
DTEND;TZID=UTC:20180516T170000
DTSTAMP:20260420T144623
CREATED:20180427T124745Z
LAST-MODIFIED:20180427T124745Z
UID:10000087-1526457600-1526490000@bvrac.com
SUMMARY:Stroke Symposium
DESCRIPTION:The Brazos Valley Regional Advisory Council would like to invite you to take part in our upcoming Regional Cardiovascular & Stroke Symposium on May 16\, 2018 at the Brazos Center in Bryan\, Texas. Stroke is the fifth-ranking cause of death throughout the United States and the number one leading cause of serious long-term disability. Heart disease is the leading cause of death for both men and woman which accounts for 1 in every 4 deaths. \nThe goal of this event is to promote cardiovascular & stroke education throughout the region thereby improving patient outcomes through evidence-based care. \nWe are pleased to provide education to Brazos Valley’s leading health care professionals. Meet and network with your colleagues as we work together to increase our knowledge of the latest evidence-based strategies proven to improve patient outcomes. \nWe are very excited and honored to have such exceptional presenters throughout the state of Texas. \nIn addition\, the BVRAC is pleased to include exhibitors in this year’s symposium who will display and educate about the latest products and services that directly affect patient outcomes. \nThank you for joining us for this exciting event. \nIf you have any questions or concerns\, please feel free to contact me. \nRebecca Hickman\, RN \nCHI St. Joseph Health Regional \nCardiovascular and Stroke Program Manager \nBrazos Valley Regional Advisory Council Cardiovascular & Stroke Chair \n979-776-3915 \nrhickman@st-joseph.org \n“Nursing Continuing Education: Baylor Scott and White Health is accredited with distinction as a provider of continuing nursing education by the American Nurses Credentialing Center’s Commission on Accreditation.”
URL:https://bvrac.com/event/stroke-symposium/
LOCATION:Brazos Center\, 3232 Briarcrest Dr\, Bryan\, 77802
CATEGORIES:Main Events
ATTACH;FMTTYPE=:
END:VEVENT
END:VCALENDAR