BEGIN:VCALENDAR
VERSION:2.0
PRODID:-//Brazos Valley Regional Advisory Council - ECPv6.15.18//NONSGML v1.0//EN
CALSCALE:GREGORIAN
METHOD:PUBLISH
X-ORIGINAL-URL:https://bvrac.com
X-WR-CALDESC:Events for Brazos Valley Regional Advisory Council
REFRESH-INTERVAL;VALUE=DURATION:PT1H
X-Robots-Tag:noindex
X-PUBLISHED-TTL:PT1H
BEGIN:VTIMEZONE
TZID:UTC
BEGIN:STANDARD
TZOFFSETFROM:+0000
TZOFFSETTO:+0000
TZNAME:UTC
DTSTART:20190101T000000
END:STANDARD
END:VTIMEZONE
BEGIN:VEVENT
DTSTART;TZID=UTC:20221006T090000
DTEND;TZID=UTC:20221006T150000
DTSTAMP:20260421T044500
CREATED:20211105T235719Z
LAST-MODIFIED:20211105T235719Z
UID:10000165-1665046800-1665068400@bvrac.com
SUMMARY:BVRAC General Assembly
DESCRIPTION:BVRAC General Assembly (GA)   \n0900 – 1000 Board of Directors    \n1000 – 1130 DEPC/BVHCC  \n1200 – 1245 Perinatal \n1300 – 1530 General Assembly
URL:https://bvrac.com/event/bvrac-general-assembly-14/
LOCATION:Brazos Valley Council of Governments\, 3991 East 29th St\, Bryan\, TX\, 77802\, United States
END:VEVENT
BEGIN:VEVENT
DTSTART;TZID=UTC:20220909T100000
DTEND;TZID=UTC:20220909T110000
DTSTAMP:20260421T044500
CREATED:20211105T235617Z
LAST-MODIFIED:20211105T235617Z
UID:10000164-1662717600-1662721200@bvrac.com
SUMMARY:BVRAC Board of Directors
DESCRIPTION:
URL:https://bvrac.com/event/bvrac-board-of-directors-8/
LOCATION:Brazos Valley Council of Governments\, 3991 East 29th St\, Bryan\, TX\, 77802\, United States
END:VEVENT
BEGIN:VEVENT
DTSTART;TZID=UTC:20220804T090000
DTEND;TZID=UTC:20220804T150000
DTSTAMP:20260421T044500
CREATED:20211105T235513Z
LAST-MODIFIED:20211105T235513Z
UID:10000163-1659603600-1659625200@bvrac.com
SUMMARY:BVRAC General Assembly
DESCRIPTION:BVRAC General Assembly (GA)   \n0900 – 1000 Board of Directors    \n1000 – 1130 DEPC/BVHCC  \n1200 – 1245 Perinatal \n1300 – 1530 General Assembly
URL:https://bvrac.com/event/bvrac-general-assembly-13/
LOCATION:Brazos Valley Council of Governments\, 3991 East 29th St\, Bryan\, TX\, 77802\, United States
END:VEVENT
BEGIN:VEVENT
DTSTART;TZID=UTC:20220708T100000
DTEND;TZID=UTC:20220708T110000
DTSTAMP:20260421T044500
CREATED:20211105T235422Z
LAST-MODIFIED:20211105T235422Z
UID:10000162-1657274400-1657278000@bvrac.com
SUMMARY:BVRAC Board of Directors Meeting
DESCRIPTION:
URL:https://bvrac.com/event/bvrac-board-of-directors-meeting-7/
LOCATION:Brazos Valley Council of Governments\, 3991 East 29th St\, Bryan\, TX\, 77802\, United States
END:VEVENT
BEGIN:VEVENT
DTSTART;TZID=UTC:20220602T090000
DTEND;TZID=UTC:20220602T150000
DTSTAMP:20260421T044500
CREATED:20211105T235339Z
LAST-MODIFIED:20211105T235339Z
UID:10000161-1654160400-1654182000@bvrac.com
SUMMARY:BVRAC General Assembly
DESCRIPTION:BVRAC General Assembly (GA)   \n0900 – 1000 Board of Directors    \n1000 – 1130 DEPC/BVHCC  \n1200 – 1245 Perinatal \n1300 – 1530 General Assembly
URL:https://bvrac.com/event/bvrac-general-assembly-12/
LOCATION:Brazos Valley Council of Governments\, 3991 East 29th St\, Bryan\, TX\, 77802\, United States
END:VEVENT
BEGIN:VEVENT
DTSTART;TZID=UTC:20220513T100000
DTEND;TZID=UTC:20220513T110000
DTSTAMP:20260421T044500
CREATED:20211105T235233Z
LAST-MODIFIED:20211105T235233Z
UID:10000160-1652436000-1652439600@bvrac.com
SUMMARY:BVRAC Board of Directors Meeting
DESCRIPTION:
URL:https://bvrac.com/event/bvrac-board-of-directors-meeting-6/
LOCATION:Brazos Valley Council of Governments\, 3991 East 29th St\, Bryan\, TX\, 77802\, United States
END:VEVENT
BEGIN:VEVENT
DTSTART;TZID=UTC:20220407T090000
DTEND;TZID=UTC:20220407T150000
DTSTAMP:20260421T044500
CREATED:20211105T235129Z
LAST-MODIFIED:20211105T235129Z
UID:10000159-1649322000-1649343600@bvrac.com
SUMMARY:BVRAC General Assembly
DESCRIPTION:BVRAC General Assembly (GA)   \n0900 – 1000 Board of Directors    \n1000 – 1130 DEPC/BVHCC  \n1200 – 1245 Perinatal \n1300 – 1530 General Assembly
URL:https://bvrac.com/event/bvrac-general-assembly-11/
LOCATION:Brazos Valley Council of Governments\, 3991 East 29th St\, Bryan\, TX\, 77802\, United States
END:VEVENT
BEGIN:VEVENT
DTSTART;TZID=UTC:20220311T100000
DTEND;TZID=UTC:20220311T150000
DTSTAMP:20260421T044500
CREATED:20211105T235034Z
LAST-MODIFIED:20211105T235034Z
UID:10000158-1646992800-1647010800@bvrac.com
SUMMARY:BVRAC Board of Directors Meeting
DESCRIPTION:
URL:https://bvrac.com/event/bvrac-board-of-directors-meeting-5/
LOCATION:Brazos Valley Council of Governments\, 3991 East 29th St\, Bryan\, TX\, 77802\, United States
END:VEVENT
BEGIN:VEVENT
DTSTART;TZID=UTC:20220203T090000
DTEND;TZID=UTC:20220203T150000
DTSTAMP:20260421T044500
CREATED:20211105T234941Z
LAST-MODIFIED:20211105T234941Z
UID:10000157-1643878800-1643900400@bvrac.com
SUMMARY:BVRAC General Assembly
DESCRIPTION:BVRAC General Assembly (GA)   \n0900 – 1000 Board of Directors    \n1000 – 1130 DEPC/BVHCC  \n1200 – 1245 Perinatal \n1300 – 1530 General Assembly
URL:https://bvrac.com/event/bvrac-general-assembly-10/
LOCATION:Brazos Valley Council of Governments\, 3991 East 29th St\, Bryan\, TX\, 77802\, United States
END:VEVENT
BEGIN:VEVENT
DTSTART;TZID=UTC:20220114T100000
DTEND;TZID=UTC:20220114T110000
DTSTAMP:20260421T044500
CREATED:20211105T234849Z
LAST-MODIFIED:20211105T234849Z
UID:10000156-1642154400-1642158000@bvrac.com
SUMMARY:BVRAC Board of Directors Meeting
DESCRIPTION:
URL:https://bvrac.com/event/bvrac-board-of-directors-meeting-4/
LOCATION:Brazos Valley Council of Governments\, 3991 East 29th St\, Bryan\, TX\, 77802\, United States
END:VEVENT
BEGIN:VEVENT
DTSTART;TZID=UTC:20211202T090000
DTEND;TZID=UTC:20211202T150000
DTSTAMP:20260421T044500
CREATED:20211105T202332Z
LAST-MODIFIED:20211105T202332Z
UID:10000154-1638435600-1638457200@bvrac.com
SUMMARY:BVRAC General Assembly
DESCRIPTION:
URL:https://bvrac.com/event/bvrac-general-assembly-8/
LOCATION:Brazos Valley Council of Governments\, 3991 East 29th St\, Bryan\, TX\, 77802\, United States
END:VEVENT
BEGIN:VEVENT
DTSTART;TZID=UTC:20210805T100000
DTEND;TZID=UTC:20210805T153000
DTSTAMP:20260421T044500
CREATED:20201013T022132Z
LAST-MODIFIED:20201013T022132Z
UID:10000150-1628157600-1628177400@bvrac.com
SUMMARY:General Assembly Meeting
DESCRIPTION:Board Room
URL:https://bvrac.com/event/general-assembly-meeting-6/
LOCATION:Brazos Valley Council of Governments\, 3991 East 29th St\, Bryan\, TX\, 77802\, United States
END:VEVENT
BEGIN:VEVENT
DTSTART;TZID=UTC:20210709T100000
DTEND;TZID=UTC:20210709T113000
DTSTAMP:20260421T044500
CREATED:20201013T021604Z
LAST-MODIFIED:20201013T021604Z
UID:10000144-1625824800-1625830200@bvrac.com
SUMMARY:Board of Directors Meeting
DESCRIPTION:Brazos Room A
URL:https://bvrac.com/event/board-of-directors-meeting-10/
LOCATION:Brazos Valley Council of Governments\, 3991 East 29th St\, Bryan\, TX\, 77802\, United States
END:VEVENT
BEGIN:VEVENT
DTSTART;TZID=UTC:20210603T100000
DTEND;TZID=UTC:20210603T153000
DTSTAMP:20260421T044500
CREATED:20201013T022025Z
LAST-MODIFIED:20201013T022025Z
UID:10000149-1622714400-1622734200@bvrac.com
SUMMARY:General Assembly Meeting
DESCRIPTION:Board Room
URL:https://bvrac.com/event/general-assembly-meeting-5/
LOCATION:Brazos Valley Council of Governments\, 3991 East 29th St\, Bryan\, TX\, 77802\, United States
END:VEVENT
BEGIN:VEVENT
DTSTART;TZID=UTC:20210603T090000
DTEND;TZID=UTC:20210603T100000
DTSTAMP:20260421T044500
CREATED:20201013T021511Z
LAST-MODIFIED:20201013T021511Z
UID:10000143-1622710800-1622714400@bvrac.com
SUMMARY:Board of Directors Meeting
DESCRIPTION:Board Room
URL:https://bvrac.com/event/board-of-directors-meeting-9/
LOCATION:Brazos Valley Council of Governments\, 3991 East 29th St\, Bryan\, TX\, 77802\, United States
END:VEVENT
BEGIN:VEVENT
DTSTART;TZID=UTC:20210514T100000
DTEND;TZID=UTC:20210514T113000
DTSTAMP:20260421T044500
CREATED:20201013T021418Z
LAST-MODIFIED:20201013T021418Z
UID:10000142-1620986400-1620991800@bvrac.com
SUMMARY:Board of Directors Meeting
DESCRIPTION:Brazos Room A
URL:https://bvrac.com/event/board-of-directors-meeting-8/
LOCATION:Brazos Valley Council of Governments\, 3991 East 29th St\, Bryan\, TX\, 77802\, United States
END:VEVENT
BEGIN:VEVENT
DTSTART;TZID=UTC:20210401T090000
DTEND;TZID=UTC:20210401T100000
DTSTAMP:20260421T044500
CREATED:20201013T021330Z
LAST-MODIFIED:20201013T021330Z
UID:10000141-1617267600-1617271200@bvrac.com
SUMMARY:Board of Directors Meeting
DESCRIPTION:Board Room
URL:https://bvrac.com/event/board-of-directors-meeting-7/
LOCATION:Brazos Valley Council of Governments\, 3991 East 29th St\, Bryan\, TX\, 77802\, United States
END:VEVENT
BEGIN:VEVENT
DTSTART;TZID=UTC:20210204T100000
DTEND;TZID=UTC:20210204T153000
DTSTAMP:20260421T044500
CREATED:20201013T021936Z
LAST-MODIFIED:20201013T021936Z
UID:10000147-1612432800-1612452600@bvrac.com
SUMMARY:General Assembly Meeting
DESCRIPTION:Board Room
URL:https://bvrac.com/event/general-assembly-meeting-3/
LOCATION:Brazos Valley Council of Governments\, 3991 East 29th St\, Bryan\, TX\, 77802\, United States
END:VEVENT
BEGIN:VEVENT
DTSTART;TZID=UTC:20210204T090000
DTEND;TZID=UTC:20210204T100000
DTSTAMP:20260421T044500
CREATED:20201013T020954Z
LAST-MODIFIED:20201013T020954Z
UID:10000140-1612429200-1612432800@bvrac.com
SUMMARY:Board of Directors Meeting
DESCRIPTION:Board Room
URL:https://bvrac.com/event/board-of-directors-meeting-6/
LOCATION:Brazos Valley Council of Governments\, 3991 East 29th St\, Bryan\, TX\, 77802\, United States
END:VEVENT
BEGIN:VEVENT
DTSTART;TZID=UTC:20210108T100000
DTEND;TZID=UTC:20210108T113000
DTSTAMP:20260421T044500
CREATED:20201013T020808Z
LAST-MODIFIED:20201013T020808Z
UID:10000139-1610100000-1610105400@bvrac.com
SUMMARY:Board of Directors Meeting
DESCRIPTION:Brazos Room A
URL:https://bvrac.com/event/board-of-directors-meeting-5/
LOCATION:Brazos Valley Council of Governments\, 3991 East 29th St\, Bryan\, TX\, 77802\, United States
END:VEVENT
BEGIN:VEVENT
DTSTART;TZID=UTC:20201203T100000
DTEND;TZID=UTC:20201203T153000
DTSTAMP:20260421T044500
CREATED:20201013T021906Z
LAST-MODIFIED:20201013T021906Z
UID:10000146-1606989600-1607009400@bvrac.com
SUMMARY:General Assembly Meeting
DESCRIPTION:Brazos Rooms A and B
URL:https://bvrac.com/event/general-assembly-meeting-2/
LOCATION:Brazos Valley Council of Governments\, 3991 East 29th St\, Bryan\, TX\, 77802\, United States
END:VEVENT
BEGIN:VEVENT
DTSTART;TZID=UTC:20201203T090000
DTEND;TZID=UTC:20201203T100000
DTSTAMP:20260421T044500
CREATED:20201013T020545Z
LAST-MODIFIED:20201013T020545Z
UID:10000138-1606986000-1606989600@bvrac.com
SUMMARY:Board of Directors Meeting
DESCRIPTION:Brazos Room A and B
URL:https://bvrac.com/event/board-of-directors-meeting-4/
LOCATION:Brazos Valley Council of Governments\, 3991 East 29th St\, Bryan\, TX\, 77802\, United States
END:VEVENT
BEGIN:VEVENT
DTSTART;TZID=UTC:20201113T100000
DTEND;TZID=UTC:20201113T113000
DTSTAMP:20260421T044500
CREATED:20201013T020446Z
LAST-MODIFIED:20201013T020446Z
UID:10000137-1605261600-1605267000@bvrac.com
SUMMARY:Board of Directors Meeting
DESCRIPTION:Brazos Room A
URL:https://bvrac.com/event/board-of-directors-meeting-3/
LOCATION:Brazos Valley Council of Governments\, 3991 East 29th St\, Bryan\, TX\, 77802\, United States
END:VEVENT
BEGIN:VEVENT
DTSTART;VALUE=DATE:20201113
DTEND;VALUE=DATE:20201114
DTSTAMP:20260421T044500
CREATED:20201013T022433Z
LAST-MODIFIED:20201013T022433Z
UID:10000152-1605225600-1605311999@bvrac.com
SUMMARY:Pregnancy Related Emergencies Class
DESCRIPTION:Complications of Pregnancy Flyer PDF
URL:https://bvrac.com/event/pregnancy-related-emergencies-class/
LOCATION:Brazos Valley Council of Governments\, 3991 East 29th St\, Bryan\, TX\, 77802\, United States
END:VEVENT
BEGIN:VEVENT
DTSTART;TZID=UTC:20200604T080000
DTEND;TZID=UTC:20200604T170000
DTSTAMP:20260421T044500
CREATED:20200424T012029Z
LAST-MODIFIED:20200424T012029Z
UID:10000134-1591257600-1591290000@bvrac.com
SUMMARY:BVRAC General Assembly Meeting (Teleconference)
DESCRIPTION:
URL:https://bvrac.com/event/bvrac-general-assembly-meeting-teleconference-2/
LOCATION:Brazos Valley Council of Governments\, 3991 East 29th St\, Bryan\, TX\, 77802\, United States
END:VEVENT
BEGIN:VEVENT
DTSTART;TZID=UTC:20200428T110000
DTEND;TZID=UTC:20200428T120000
DTSTAMP:20260421T044500
CREATED:20200424T002849Z
LAST-MODIFIED:20200424T002849Z
UID:10000132-1588071600-1588075200@bvrac.com
SUMMARY:BVRAC Board of Directors Meeting (Teleconference)
DESCRIPTION:
URL:https://bvrac.com/event/bvrac-board-of-directors-meeting-teleconference-3/
LOCATION:Brazos Valley Council of Governments\, 3991 East 29th St\, Bryan\, TX\, 77802\, United States
END:VEVENT
BEGIN:VEVENT
DTSTART;TZID=UTC:20200421T110000
DTEND;TZID=UTC:20200421T120000
DTSTAMP:20260421T044500
CREATED:20200424T002716Z
LAST-MODIFIED:20200424T002716Z
UID:10000131-1587466800-1587470400@bvrac.com
SUMMARY:BVRAC General Assembly Meeting (Teleconference)
DESCRIPTION:I.	Call to Order\nII.	Introductions\nIII.	Approval of General Assembly’s February 6\, 2020 Meeting Minutes\nIV.	Financial Report\nV.	Executive Director Report\nA.	Draft Budget Review (May 1\, 2020 to August 31\, 2021)\nB.	EMS County Update\nVI.	Discussion and/or Action Items\nA.	Consider for approval FY21 EMS RAC & Systems Development Operational Budget\nB.	Consider for approval SB500 Allocation Plan\nC.	Consider for approval EMS LPG Plan\nD.	Consider for approval EMS County Allocation Plan\nVII.	Committee Updates\nVIII.	Open Forum\nIX.	Important Dates\nA.	Board of Directors Meeting 28APR20\nX.		Adjourn \nPlease join my meeting from your computer\, tablet or smartphone.\nhttps://global.gotomeeting.com/join/596981797\nYou can also dial in using your phone.\n(For supported devices\, tap a one-touch number below to join instantly.)\nUnited States: +1 (646) 749-3122\n– One-touch: tel:+16467493122\,\,596981797#\nAccess Code: 596-981-797\nNew to GoToMeeting? Get the app now and be ready when your first meeting starts: https://global.gotomeeting.com/install/596981797
URL:https://bvrac.com/event/bvrac-general-assembly-meeting-teleconference/
LOCATION:Brazos Valley Council of Governments\, 3991 East 29th St\, Bryan\, TX\, 77802\, United States
END:VEVENT
BEGIN:VEVENT
DTSTART;TZID=UTC:20200421T103000
DTEND;TZID=UTC:20200421T110000
DTSTAMP:20260421T044500
CREATED:20200424T002536Z
LAST-MODIFIED:20200424T002536Z
UID:10000130-1587465000-1587466800@bvrac.com
SUMMARY:BVRAC Board of Directors Meeting (Teleconference)
DESCRIPTION:I.	Call to Order\nII.	Introductions\nIII.	Approval of Board of Director’s April 2\, 2020 Meeting Minutes\nIV.	Executive Director Report\nA.	Draft Budget Review (May 1\, 2020 to August 31\, 2021)\nB.	SB500 $27\,184 Budget\nC.	LPG $12\,150 Budget\nD.	EMS County\nV.	Discussion and/or Action Items\nA.	Consider for approval FY21 EMS RAC & Systems Development Operational Budget\nB.	Consider for approval SB500 Allocation Plan\nC.	Consider for approval EMS LPG Plan\nD.	Consider for approval EMS County Allocation Plan\nVI.	Open Forum\nVII.	Important Dates\nA.	Board of Directors meeting April 28\, 2020\nVIII.		Adjourn \nPlease join my meeting from your computer\, tablet or smartphone.\nhttps://global.gotomeeting.com/join/331299909\nYou can also dial in using your phone.\n(For supported devices\, tap a one-touch number below to join instantly.)\nUnited States: +1 (571) 317-3122\n– One-touch: tel:+15713173122\,\,331299909#\nAccess Code: 331-299-909
URL:https://bvrac.com/event/bvrac-board-of-directors-meeting-teleconference-2/
LOCATION:Brazos Valley Council of Governments\, 3991 East 29th St\, Bryan\, TX\, 77802\, United States
END:VEVENT
BEGIN:VEVENT
DTSTART;TZID=UTC:20200414T110000
DTEND;TZID=UTC:20200414T120000
DTSTAMP:20260421T044500
CREATED:20200424T002335Z
LAST-MODIFIED:20200424T002335Z
UID:10000129-1586862000-1586865600@bvrac.com
SUMMARY:BVRAC Board of Directors
DESCRIPTION:I.	Call to Order\nII.	Introductions\nIII.	Approval of Board of Director’s April 2\, 2020 Meeting Minutes\nIV.	Executive Director Report\nA.	Draft Budget Review (May 1\, 2020 to August 31\, 2021)\nB.	SB500 $27\,184 Budget\nC.	LPG $12\,150 Budget\nD.	COVID-19 Response Actions\nV.	Discussion and/or Action Items\nA.	Consider for approval General Assembly meeting 1100 April 21\, 2020.\nVI.	Open Forum\nVII.	Important Dates\nA.	Board of Directors meeting May  3\, 2020\nVIII.		Adjourn \nPlease join my meeting from your computer\, tablet or smartphone.\nhttps://global.gotomeeting.com/join/331299909\nYou can also dial in using your phone.\n(For supported devices\, tap a one-touch number below to join instantly.)\nUnited States: +1 (571) 317-3122\n– One-touch: tel:+15713173122\,\,331299909#\nAccess Code: 331-299-909
URL:https://bvrac.com/event/bvrac-board-of-directors-7/
LOCATION:Brazos Valley Council of Governments\, 3991 East 29th St\, Bryan\, TX\, 77802\, United States
END:VEVENT
BEGIN:VEVENT
DTSTART;TZID=UTC:20200407T080000
DTEND;TZID=UTC:20200407T170000
DTSTAMP:20260421T044500
CREATED:20200424T011750Z
LAST-MODIFIED:20200424T011750Z
UID:10000133-1586246400-1586278800@bvrac.com
SUMMARY:BVRAC Board of Directors Meeting (Teleconference)
DESCRIPTION:
URL:https://bvrac.com/event/bvrac-board-of-directors-meeting-teleconference-4/
LOCATION:Brazos Valley Council of Governments\, 3991 East 29th St\, Bryan\, TX\, 77802\, United States
END:VEVENT
END:VCALENDAR