BEGIN:VCALENDAR
VERSION:2.0
PRODID:-//Brazos Valley Regional Advisory Council - ECPv6.15.18//NONSGML v1.0//EN
CALSCALE:GREGORIAN
METHOD:PUBLISH
X-WR-CALNAME:Brazos Valley Regional Advisory Council
X-ORIGINAL-URL:https://bvrac.com
X-WR-CALDESC:Events for Brazos Valley Regional Advisory Council
REFRESH-INTERVAL;VALUE=DURATION:PT1H
X-Robots-Tag:noindex
X-PUBLISHED-TTL:PT1H
BEGIN:VTIMEZONE
TZID:UTC
BEGIN:STANDARD
TZOFFSETFROM:+0000
TZOFFSETTO:+0000
TZNAME:UTC
DTSTART:20170101T000000
END:STANDARD
END:VTIMEZONE
BEGIN:VEVENT
DTSTART;TZID=UTC:20200313T100000
DTEND;TZID=UTC:20200313T110000
DTSTAMP:20260421T121945
CREATED:20200424T001732Z
LAST-MODIFIED:20200424T001732Z
UID:10000127-1584093600-1584097200@bvrac.com
SUMMARY:BVRAC Board of Directors Meeting
DESCRIPTION:I.	Call to Order\nII.	Introductions\nIII.	Approval of Board of Director’s February 6\, 2020 Meeting Minutes\nIV.	Financial Report\nV.	Executive Director Report\nA.	MMU Status Update\nB.	Corona Virus-BVRAC scope of work\nC.	BVRAC new contract review\nD.	EMS LPG project discussion\nE.	SB 500 Project Update\nF.	Budget Spending Needs\nG.	GETAC Update\nH.	EMS County Update\nVI.	Discussion and/or Action Items\nVII.	Committee Reports\nA.	Education\n1.	Stop The Bleed Progress Report\nB.	Pre-Hospital\nC.	Hospital Care and Management/Acute Care\nD.	Stroke\n1.	Trauma & Acute Care Symposium\nE.	System QI/Physician’s Advisory\nF.	Injury Prevention\n1.	Shattered Dreams Request\nG.	Disaster/Emergency Preparedness\nH.	Perinatal\nVIII.	Open Forum\nIX.	Important Dates\nA.	General Assembly meetings April 3\, 2020\nX.		Adjourn
URL:https://bvrac.com/event/bvrac-board-of-directors-meeting-2/
LOCATION:Brazos Valley Council of Governments\, 3991 East 29th St\, Bryan\, TX\, 77802\, United States
END:VEVENT
BEGIN:VEVENT
DTSTART;TZID=UTC:20191205T090000
DTEND;TZID=UTC:20191205T160000
DTSTAMP:20260421T121945
CREATED:20181121T021018Z
LAST-MODIFIED:20181121T021018Z
UID:10000113-1575536400-1575561600@bvrac.com
SUMMARY:BVRAC General Assembly
DESCRIPTION:BVRAC Board of Directors (BOD) meets odd months\nBoard of Directors 1000\nBVRAC General Assembly (GA) meets even months\nBoard of Directors 0900\nDEPC/BVHCC 1000\nPerinatal 1200\nGeneral Assembly 1300 \n  \nJanuary 11\, 2019 (BOD Meeting) Brazos A\nFebruary 7\, 2019 (BOD & GA Meetings) Board Rm\nMarch 8\, 2019 (BOD Meeting) Washington Rm\nApril 4\, 2019 (BOD & GA Meetings) Washington Rm/Board Rm\nMay 10\, 2019 (BOD Meeting) Brazos A\nJune 6\, 2019 (BOD & GA Meetings) Board Rm\nJuly 12\, 2019 (BOD Meeting) Brazos A\nAugust 1\, 2019 (BOD & GA Meetings) Board Rm\nSeptember 13\, 2019 (BOD Meeting) Brazos A\nOctober 3\, 2019 (BOD & GA Meetings) Washington RM/Board RM\nNovember 8\, 2019 (BOD Meeting) Brazos Rm\nDecember 5\, 2019 (BOD & GA Meetings) Brazos Rm
URL:https://bvrac.com/event/bvrac-general-assembly-7/
LOCATION:Brazos Valley Council of Governments\, 3991 East 29th St\, Bryan\, TX\, 77802\, United States
END:VEVENT
BEGIN:VEVENT
DTSTART;TZID=UTC:20191108T100000
DTEND;TZID=UTC:20191108T113000
DTSTAMP:20260421T121945
CREATED:20181121T020023Z
LAST-MODIFIED:20181121T020023Z
UID:10000107-1573207200-1573212600@bvrac.com
SUMMARY:BVRAC Board of Directors
DESCRIPTION:BVRAC Board of Directors (BOD) meets odd months\nBoard of Directors 1000\nBVRAC General Assembly (GA) meets even months\nBoard of Directors 0900\nDEPC/BVHCC 1000\nPerinatal 1200\nGeneral Assembly 1300 \n  \nJanuary 11\, 2019 (BOD Meeting) Brazos A\nFebruary 7\, 2019 (BOD & GA Meetings) Board Rm\nMarch 8\, 2019 (BOD Meeting) Washington Rm\nApril 4\, 2019 (BOD & GA Meetings) Washington Rm/Board Rm\nMay 10\, 2019 (BOD Meeting) Brazos A\nJune 6\, 2019 (BOD & GA Meetings) Board Rm\nJuly 12\, 2019 (BOD Meeting) Brazos A\nAugust 1\, 2019 (BOD & GA Meetings) Board Rm\nSeptember 13\, 2019 (BOD Meeting) Brazos A\nOctober 3\, 2019 (BOD & GA Meetings) Washington RM/Board RM\nNovember 8\, 2019 (BOD Meeting) Brazos Rm\nDecember 5\, 2019 (BOD & GA Meetings) Brazos Rm
URL:https://bvrac.com/event/bvrac-board-of-directors-6/
LOCATION:Brazos Valley Council of Governments\, 3991 East 29th St\, Bryan\, TX\, 77802\, United States
END:VEVENT
BEGIN:VEVENT
DTSTART;TZID=UTC:20191003T090000
DTEND;TZID=UTC:20191003T160000
DTSTAMP:20260421T121945
CREATED:20181121T020914Z
LAST-MODIFIED:20181121T020914Z
UID:10000112-1570093200-1570118400@bvrac.com
SUMMARY:BVRAC General Assembly
DESCRIPTION:BVRAC Board of Directors (BOD) meets odd months\nBoard of Directors 1000\nBVRAC General Assembly (GA) meets even months\nBoard of Directors 0900\nDEPC/BVHCC 1000\nPerinatal 1200\nGeneral Assembly 1300 \n  \nJanuary 11\, 2019 (BOD Meeting) Brazos A\nFebruary 7\, 2019 (BOD & GA Meetings) Board Rm\nMarch 8\, 2019 (BOD Meeting) Washington Rm\nApril 4\, 2019 (BOD & GA Meetings) Washington Rm/Board Rm\nMay 10\, 2019 (BOD Meeting) Brazos A\nJune 6\, 2019 (BOD & GA Meetings) Board Rm\nJuly 12\, 2019 (BOD Meeting) Brazos A\nAugust 1\, 2019 (BOD & GA Meetings) Board Rm\nSeptember 13\, 2019 (BOD Meeting) Brazos A\nOctober 3\, 2019 (BOD & GA Meetings) Washington RM/Board RM\nNovember 8\, 2019 (BOD Meeting) Brazos Rm\nDecember 5\, 2019 (BOD & GA Meetings) Brazos Rm
URL:https://bvrac.com/event/bvrac-general-assembly-6/
LOCATION:Brazos Valley Council of Governments\, 3991 East 29th St\, Bryan\, TX\, 77802\, United States
END:VEVENT
BEGIN:VEVENT
DTSTART;TZID=UTC:20190913T100000
DTEND;TZID=UTC:20190913T233000
DTSTAMP:20260421T121945
CREATED:20181121T015859Z
LAST-MODIFIED:20181121T015859Z
UID:10000106-1568368800-1568417400@bvrac.com
SUMMARY:BVRAC Board of Directors
DESCRIPTION:BVRAC Board of Directors (BOD) meets odd months\nBoard of Directors 1000\nBVRAC General Assembly (GA) meets even months\nBoard of Directors 0900\nDEPC/BVHCC 1000\nPerinatal 1200\nGeneral Assembly 1300 \n  \nJanuary 11\, 2019 (BOD Meeting) Brazos A\nFebruary 7\, 2019 (BOD & GA Meetings) Board Rm\nMarch 8\, 2019 (BOD Meeting) Washington Rm\nApril 4\, 2019 (BOD & GA Meetings) Washington Rm/Board Rm\nMay 10\, 2019 (BOD Meeting) Brazos A\nJune 6\, 2019 (BOD & GA Meetings) Board Rm\nJuly 12\, 2019 (BOD Meeting) Brazos A\nAugust 1\, 2019 (BOD & GA Meetings) Board Rm\nSeptember 13\, 2019 (BOD Meeting) Brazos A\nOctober 3\, 2019 (BOD & GA Meetings) Washington RM/Board RM\nNovember 8\, 2019 (BOD Meeting) Brazos Rm\nDecember 5\, 2019 (BOD & GA Meetings) Brazos Rm
URL:https://bvrac.com/event/bvrac-board-of-directors-5/
LOCATION:Brazos Valley Council of Governments\, 3991 East 29th St\, Bryan\, TX\, 77802\, United States
END:VEVENT
BEGIN:VEVENT
DTSTART;TZID=UTC:20190801T090000
DTEND;TZID=UTC:20190801T160000
DTSTAMP:20260421T121945
CREATED:20181121T020816Z
LAST-MODIFIED:20181121T020816Z
UID:10000111-1564650000-1564675200@bvrac.com
SUMMARY:BVRAC General Assembly
DESCRIPTION:BVRAC Board of Directors (BOD) meets odd months\nBoard of Directors 1000\nBVRAC General Assembly (GA) meets even months\nBoard of Directors 0900\nDEPC/BVHCC 1000\nPerinatal 1200\nGeneral Assembly 1300 \n  \nJanuary 11\, 2019 (BOD Meeting) Brazos A\nFebruary 7\, 2019 (BOD & GA Meetings) Board Rm\nMarch 8\, 2019 (BOD Meeting) Washington Rm\nApril 4\, 2019 (BOD & GA Meetings) Washington Rm/Board Rm\nMay 10\, 2019 (BOD Meeting) Brazos A\nJune 6\, 2019 (BOD & GA Meetings) Board Rm\nJuly 12\, 2019 (BOD Meeting) Brazos A\nAugust 1\, 2019 (BOD & GA Meetings) Board Rm\nSeptember 13\, 2019 (BOD Meeting) Brazos A\nOctober 3\, 2019 (BOD & GA Meetings) Washington RM/Board RM\nNovember 8\, 2019 (BOD Meeting) Brazos Rm\nDecember 5\, 2019 (BOD & GA Meetings) Brazos Rm
URL:https://bvrac.com/event/bvrac-general-assembly-5/
LOCATION:Brazos Valley Council of Governments\, 3991 East 29th St\, Bryan\, TX\, 77802\, United States
END:VEVENT
BEGIN:VEVENT
DTSTART;TZID=UTC:20190712T100000
DTEND;TZID=UTC:20190712T113000
DTSTAMP:20260421T121945
CREATED:20181121T015742Z
LAST-MODIFIED:20181121T015742Z
UID:10000105-1562925600-1562931000@bvrac.com
SUMMARY:BVRAC Board of Directors
DESCRIPTION:BVRAC Board of Directors (BOD) meets odd months\nBoard of Directors 1000\nBVRAC General Assembly (GA) meets even months\nBoard of Directors 0900\nDEPC/BVHCC 1000\nPerinatal 1200\nGeneral Assembly 1300 \n  \nJanuary 11\, 2019 (BOD Meeting) Brazos A\nFebruary 7\, 2019 (BOD & GA Meetings) Board Rm\nMarch 8\, 2019 (BOD Meeting) Washington Rm\nApril 4\, 2019 (BOD & GA Meetings) Washington Rm/Board Rm\nMay 10\, 2019 (BOD Meeting) Brazos A\nJune 6\, 2019 (BOD & GA Meetings) Board Rm\nJuly 12\, 2019 (BOD Meeting) Brazos A\nAugust 1\, 2019 (BOD & GA Meetings) Board Rm\nSeptember 13\, 2019 (BOD Meeting) Brazos A\nOctober 3\, 2019 (BOD & GA Meetings) Washington RM/Board RM\nNovember 8\, 2019 (BOD Meeting) Brazos Rm\nDecember 5\, 2019 (BOD & GA Meetings) Brazos Rm
URL:https://bvrac.com/event/bvrac-board-of-directors-4/
LOCATION:Brazos Valley Council of Governments\, 3991 East 29th St\, Bryan\, TX\, 77802\, United States
END:VEVENT
BEGIN:VEVENT
DTSTART;TZID=UTC:20190606T090000
DTEND;TZID=UTC:20190606T160000
DTSTAMP:20260421T121945
CREATED:20181121T020720Z
LAST-MODIFIED:20181121T020720Z
UID:10000110-1559811600-1559836800@bvrac.com
SUMMARY:BVRAC General Assembly
DESCRIPTION:BVRAC Board of Directors (BOD) meets odd months\nBoard of Directors 1000\nBVRAC General Assembly (GA) meets even months\nBoard of Directors 0900\nDEPC/BVHCC 1000\nPerinatal 1200\nGeneral Assembly 1300 \n  \nJanuary 11\, 2019 (BOD Meeting) Brazos A\nFebruary 7\, 2019 (BOD & GA Meetings) Board Rm\nMarch 8\, 2019 (BOD Meeting) Washington Rm\nApril 4\, 2019 (BOD & GA Meetings) Washington Rm/Board Rm\nMay 10\, 2019 (BOD Meeting) Brazos A\nJune 6\, 2019 (BOD & GA Meetings) Board Rm\nJuly 12\, 2019 (BOD Meeting) Brazos A\nAugust 1\, 2019 (BOD & GA Meetings) Board Rm\nSeptember 13\, 2019 (BOD Meeting) Brazos A\nOctober 3\, 2019 (BOD & GA Meetings) Washington RM/Board RM\nNovember 8\, 2019 (BOD Meeting) Brazos Rm\nDecember 5\, 2019 (BOD & GA Meetings) Brazos Rm
URL:https://bvrac.com/event/bvrac-general-assembly-4/
LOCATION:Brazos Valley Council of Governments\, 3991 East 29th St\, Bryan\, TX\, 77802\, United States
END:VEVENT
BEGIN:VEVENT
DTSTART;TZID=UTC:20190510T100000
DTEND;TZID=UTC:20190510T113000
DTSTAMP:20260421T121945
CREATED:20181121T015624Z
LAST-MODIFIED:20181121T015624Z
UID:10000104-1557482400-1557487800@bvrac.com
SUMMARY:BVRAC Board of Directors
DESCRIPTION:BVRAC Board of Directors (BOD) meets odd months\nBoard of Directors 1000\nBVRAC General Assembly (GA) meets even months\nBoard of Directors 0900\nDEPC/BVHCC 1000\nPerinatal 1200\nGeneral Assembly 1300 \n  \nJanuary 11\, 2019 (BOD Meeting) Brazos A\nFebruary 7\, 2019 (BOD & GA Meetings) Board Rm\nMarch 8\, 2019 (BOD Meeting) Washington Rm\nApril 4\, 2019 (BOD & GA Meetings) Washington Rm/Board Rm\nMay 10\, 2019 (BOD Meeting) Brazos A\nJune 6\, 2019 (BOD & GA Meetings) Board Rm\nJuly 12\, 2019 (BOD Meeting) Brazos A\nAugust 1\, 2019 (BOD & GA Meetings) Board Rm\nSeptember 13\, 2019 (BOD Meeting) Brazos A\nOctober 3\, 2019 (BOD & GA Meetings) Washington RM/Board RM\nNovember 8\, 2019 (BOD Meeting) Brazos Rm\nDecember 5\, 2019 (BOD & GA Meetings) Brazos Rm
URL:https://bvrac.com/event/bvrac-board-of-directors-3/
LOCATION:Brazos Valley Council of Governments\, 3991 East 29th St\, Bryan\, TX\, 77802\, United States
END:VEVENT
BEGIN:VEVENT
DTSTART;TZID=UTC:20190404T090000
DTEND;TZID=UTC:20190404T160000
DTSTAMP:20260421T121945
CREATED:20181121T020627Z
LAST-MODIFIED:20181121T020627Z
UID:10000109-1554368400-1554393600@bvrac.com
SUMMARY:BVRAC General Assembly
DESCRIPTION:BVRAC Board of Directors (BOD) meets odd months\nBoard of Directors 1000\nBVRAC General Assembly (GA) meets even months\nBoard of Directors 0900\nDEPC/BVHCC 1000\nPerinatal 1200\nGeneral Assembly 1300 \n  \nJanuary 11\, 2019 (BOD Meeting) Brazos A\nFebruary 7\, 2019 (BOD & GA Meetings) Board Rm\nMarch 8\, 2019 (BOD Meeting) Washington Rm\nApril 4\, 2019 (BOD & GA Meetings) Washington Rm/Board Rm\nMay 10\, 2019 (BOD Meeting) Brazos A\nJune 6\, 2019 (BOD & GA Meetings) Board Rm\nJuly 12\, 2019 (BOD Meeting) Brazos A\nAugust 1\, 2019 (BOD & GA Meetings) Board Rm\nSeptember 13\, 2019 (BOD Meeting) Brazos A\nOctober 3\, 2019 (BOD & GA Meetings) Washington RM/Board RM\nNovember 8\, 2019 (BOD Meeting) Brazos Rm\nDecember 5\, 2019 (BOD & GA Meetings) Brazos Rm
URL:https://bvrac.com/event/bvrac-general-assembly-3/
LOCATION:Brazos Valley Council of Governments\, 3991 East 29th St\, Bryan\, TX\, 77802\, United States
END:VEVENT
BEGIN:VEVENT
DTSTART;TZID=UTC:20190308T100000
DTEND;TZID=UTC:20190308T113000
DTSTAMP:20260421T121945
CREATED:20181121T015504Z
LAST-MODIFIED:20181121T015504Z
UID:10000103-1552039200-1552044600@bvrac.com
SUMMARY:BVRAC Board of Directors
DESCRIPTION:BVRAC Board of Directors (BOD) meets odd months\nBoard of Directors 1000\nBVRAC General Assembly (GA) meets even months\nBoard of Directors 0900\nDEPC/BVHCC 1000\nPerinatal 1200\nGeneral Assembly 1300 \n  \nJanuary 11\, 2019 (BOD Meeting) Brazos A\nFebruary 7\, 2019 (BOD & GA Meetings) Board Rm\nMarch 8\, 2019 (BOD Meeting) Washington Rm\nApril 4\, 2019 (BOD & GA Meetings) Washington Rm/Board Rm\nMay 10\, 2019 (BOD Meeting) Brazos A\nJune 6\, 2019 (BOD & GA Meetings) Board Rm\nJuly 12\, 2019 (BOD Meeting) Brazos A\nAugust 1\, 2019 (BOD & GA Meetings) Board Rm\nSeptember 13\, 2019 (BOD Meeting) Brazos A\nOctober 3\, 2019 (BOD & GA Meetings) Washington RM/Board RM\nNovember 8\, 2019 (BOD Meeting) Brazos Rm\nDecember 5\, 2019 (BOD & GA Meetings) Brazos Rm
URL:https://bvrac.com/event/bvrac-board-of-directors-2/
LOCATION:Brazos Valley Council of Governments\, 3991 East 29th St\, Bryan\, TX\, 77802\, United States
END:VEVENT
BEGIN:VEVENT
DTSTART;TZID=UTC:20190227T100000
DTEND;TZID=UTC:20190227T120000
DTSTAMP:20260421T121945
CREATED:20190221T221247Z
LAST-MODIFIED:20190221T221247Z
UID:10000118-1551261600-1551268800@bvrac.com
SUMMARY:Offender Recidivism Study 2014 - 2018
DESCRIPTION:Presenter:  Dayana Borges\, Reentry Specialist-Brazos County Office of the Sheriff \nRegister at:  https://www.research.net/r/RecidivismFeb27
URL:https://bvrac.com/event/offender-recidivism-study-2014-2018/
LOCATION:Brazos Valley Council of Governments\, 3991 East 29th St\, Bryan\, TX\, 77802\, United States
END:VEVENT
BEGIN:VEVENT
DTSTART;TZID=UTC:20190207T090000
DTEND;TZID=UTC:20190207T150000
DTSTAMP:20260421T121945
CREATED:20181121T020521Z
LAST-MODIFIED:20181121T020521Z
UID:10000108-1549530000-1549551600@bvrac.com
SUMMARY:BVRAC General Assembly
DESCRIPTION:BVRAC Board of Directors (BOD) meets odd months\nBoard of Directors 1000\nBVRAC General Assembly (GA) meets even months\nBoard of Directors 0900\nDEPC/BVHCC 1000\nPerinatal 1200\nGeneral Assembly 1300 \n  \nJanuary 11\, 2019 (BOD Meeting) Brazos A\nFebruary 7\, 2019 (BOD & GA Meetings) Board Rm\nMarch 8\, 2019 (BOD Meeting) Washington Rm\nApril 4\, 2019 (BOD & GA Meetings) Washington Rm/Board Rm\nMay 10\, 2019 (BOD Meeting) Brazos A\nJune 6\, 2019 (BOD & GA Meetings) Board Rm\nJuly 12\, 2019 (BOD Meeting) Brazos A\nAugust 1\, 2019 (BOD & GA Meetings) Board Rm\nSeptember 13\, 2019 (BOD Meeting) Brazos A\nOctober 3\, 2019 (BOD & GA Meetings) Washington RM/Board RM\nNovember 8\, 2019 (BOD Meeting) Brazos Rm\nDecember 5\, 2019 (BOD & GA Meetings) Brazos Rm
URL:https://bvrac.com/event/bvrac-general-assembly-2/
LOCATION:Brazos Valley Council of Governments\, 3991 East 29th St\, Bryan\, TX\, 77802\, United States
END:VEVENT
BEGIN:VEVENT
DTSTART;VALUE=DATE:20190117
DTEND;VALUE=DATE:20190119
DTSTAMP:20260421T121945
CREATED:20181110T012535Z
LAST-MODIFIED:20181110T012535Z
UID:10000101-1547683200-1547855999@bvrac.com
SUMMARY:Stroke Certification Review Class for the Registered Nurse
DESCRIPTION:Stroke Certification Review Class for the Registered Nurse\nOffered by\nMandy Dirickson MS\, APRN\, ANP-C\, SCRN\nJanuary 17 & 18\, 2019\n8am\nFREE\nEMS welcome on January 17\nBrazos Valley Council of Governments\n3991 E. 29th St\nBryan\, Texas\nTo register\, contact Patti Parks RN\, CEN\nPatti.Parks@BSWHealth.org or 979-337-5200
URL:https://bvrac.com/event/stroke-certification-review-class-for-the-registered-nurse/
LOCATION:Brazos Valley Council of Governments\, 3991 East 29th St\, Bryan\, TX\, 77802\, United States
END:VEVENT
BEGIN:VEVENT
DTSTART;TZID=UTC:20190111T100000
DTEND;TZID=UTC:20190111T113000
DTSTAMP:20260421T121945
CREATED:20181121T015311Z
LAST-MODIFIED:20181121T015311Z
UID:10000102-1547200800-1547206200@bvrac.com
SUMMARY:BVRAC Board of Directors Meeting
DESCRIPTION:BVRAC Board of Directors (BOD) meets odd months\nBoard of Directors 1000\nBVRAC General Assembly (GA) meets even months\nBoard of Directors 0900\nDEPC/BVHCC 1000\nPerinatal 1200\nGeneral Assembly 1300 \n  \nJanuary 11\, 2019 (BOD Meeting) Brazos A\nFebruary 7\, 2019 (BOD & GA Meetings) Board Rm\nMarch 8\, 2019 (BOD Meeting) Washington Rm\nApril 4\, 2019 (BOD & GA Meetings) Washington Rm/Board Rm\nMay 10\, 2019 (BOD Meeting) Brazos A\nJune 6\, 2019 (BOD & GA Meetings) Board Rm\nJuly 12\, 2019 (BOD Meeting) Brazos A\nAugust 1\, 2019 (BOD & GA Meetings) Board Rm\nSeptember 13\, 2019 (BOD Meeting) Brazos A\nOctober 3\, 2019 (BOD & GA Meetings) Washington RM/Board RM\nNovember 8\, 2019 (BOD Meeting) Brazos Rm\nDecember 5\, 2019 (BOD & GA Meetings) Brazos Rm
URL:https://bvrac.com/event/bvrac-board-of-directors-meeting/
LOCATION:Brazos Valley Council of Governments\, 3991 East 29th St\, Bryan\, TX\, 77802\, United States
END:VEVENT
BEGIN:VEVENT
DTSTART;TZID=UTC:20181206T090000
DTEND;TZID=UTC:20181206T160000
DTSTAMP:20260421T121945
CREATED:20180731T235531Z
LAST-MODIFIED:20180731T235531Z
UID:10000095-1544086800-1544112000@bvrac.com
SUMMARY:BVRAC General Assembly Meeting
DESCRIPTION:Meeting times:  \n1000 – 1130 Board of Directors Odd Months \n0900 – 1030 Board of Directors Even Months \n1030 – 1200 DEPC \n1200 – 1245 Perinatal \n1300 – 1600 General Assembly
URL:https://bvrac.com/event/bvrac-general-assembly-meeting-2/
LOCATION:Brazos Valley Council of Governments\, 3991 East 29th St\, Bryan\, TX\, 77802\, United States
END:VEVENT
BEGIN:VEVENT
DTSTART;TZID=UTC:20181109T100000
DTEND;TZID=UTC:20181109T120000
DTSTAMP:20260421T121945
CREATED:20180731T235431Z
LAST-MODIFIED:20180731T235431Z
UID:10000094-1541757600-1541764800@bvrac.com
SUMMARY:BVRAC Board of Directors
DESCRIPTION:Meeting times:  \n1000 – 1130 Board of Directors Odd Months \n0900 – 1030 Board of Directors Even Months \n1030 – 1200 DEPC \n1200 – 1245 Perinatal \n1300 – 1600 General Assembly
URL:https://bvrac.com/event/bvrac-board-of-directors/
LOCATION:Brazos Valley Council of Governments\, 3991 East 29th St\, Bryan\, TX\, 77802\, United States
END:VEVENT
BEGIN:VEVENT
DTSTART;TZID=UTC:20181004T090000
DTEND;TZID=UTC:20181004T160000
DTSTAMP:20260421T121945
CREATED:20180731T235311Z
LAST-MODIFIED:20180731T235311Z
UID:10000093-1538643600-1538668800@bvrac.com
SUMMARY:BVRAC General Assembly
DESCRIPTION:Meeting times:  \n1000 – 1130 Board of Directors Odd Months \n0900 – 1030 Board of Directors Even Months \n1030 – 1200 DEPC \n1200 – 1245 Perinatal \n1300 – 1600 General Assembly
URL:https://bvrac.com/event/bvrac-general-assembly/
LOCATION:Brazos Valley Council of Governments\, 3991 East 29th St\, Bryan\, TX\, 77802\, United States
END:VEVENT
BEGIN:VEVENT
DTSTART;TZID=UTC:20180914T100000
DTEND;TZID=UTC:20180914T120000
DTSTAMP:20260421T121945
CREATED:20180731T235219Z
LAST-MODIFIED:20180731T235219Z
UID:10000092-1536919200-1536926400@bvrac.com
SUMMARY:BVRAC Board Meeting
DESCRIPTION:Meeting times:  \n1000 – 1130 Board of Directors Odd Months \n0900 – 1030 Board of Directors Even Months \n1030 – 1200 DEPC \n1200 – 1245 Perinatal \n1300 – 1600 General Assembly
URL:https://bvrac.com/event/bvrac-board-meeting-2/
LOCATION:Brazos Valley Council of Governments\, 3991 East 29th St\, Bryan\, TX\, 77802\, United States
END:VEVENT
END:VCALENDAR